BEGIN:VCALENDAR
VERSION:2.0
PRODID:icalendar-ruby
CALSCALE:GREGORIAN
METHOD:PUBLISH
BEGIN:VEVENT
DTSTAMP:20260424T223551Z
UID:26-364872@duluthbible.org
DTSTART:20261021T233000Z
DTEND:20261022T010000Z
CLASS:PUBLIC
CREATED:20260424T153733
DESCRIPTION:Adult Bible Study\nJr. Church (K-6th Grade)\nNursery
LAST-MODIFIED:20260424T153733
LOCATION:Duluth Bible Church
SUMMARY:Midweek Bible Study
URL;VALUE=URI:https://duluthbible.org/events/midweek-bible-study/2026-10-21
ATTACH;FILENAME=IMG_0660.jpg;FMTTYPE=image/jpeg:https://dq5pwpg1q8ru0.cloud
 front.net/2024/04/02/21/27/51/51955b50-5664-4f5b-9da5-7b1c09a8dade/IMG_066
 0.jpg
END:VEVENT
END:VCALENDAR
